Workbook
Name current_month: [1]ADMIN!$C$8

Sheet СЗР_PL_01.10.2026
A5: ПРАЙС-ЛИСТ БАЙЕР КРОП САЙЕНС
A6: Лист предполагаемых розничных цен для конечных потребителей - сельхозпроизводителей
A7: Действителен с 01.10.2026
A9: Препарат | B9: Препара-тивная форма | C9: Упаковка: к - канистра/ м- мешок/ ф - флакон / кор. - коробка | D9: Норма расхода л, кг/га,т в зависимости от культуры | E9: Стоимость за 1 л или 1 кг в рублях, без НДС в зависимости от упаковки | F9: Стоимость за 1 л или 1 кг в рублях, вкл НДС (22%) в зависимости от упаковки | G9: Стоимость применения на 1 га/тн в рублях, вкл НДС (22%)
G10: при минимальной нормe расхода | H10: при максимальной нормe расхода | U10: Цены без НДС | V10: min | W10: max
A11: Аденго | B11: КС | C11: 4x5 л к | D11: 0,4-0,5 | E11: =F11/1.22 -> 10934.426 | F11: 13340 | G11: =$F11*V11 -> 5336 | H11: =$F11*W11 -> 6670 | U11: =F11/1.22 -> 10934.426 | V11: 0.4 | W11: 0.5 | X11: =$F11*V11-G11 -> 0 | Y11: =$F11*W11-H11 -> 0
A12: Акцент | B12: КЭ | C12: 4x5 л к | D12: 0,3-0,7 | E12: =F12/1.22 -> 2049.1803 | F12: 2500 | G12: =$F12*V12 -> 750 | H12: =$F12*W12 -> 1750 | U12: =F12/1.22 -> 2049.1803 | V12: 0.3 | W12: 0.7 | X12: =$F12*V12-G12 -> 0 | Y12: =$F12*W12-H12 -> 0
A13: Алистер Гранд | B13: МД | C13: 4x5 л к | D13: 0,6-1,0 | E13: =F13/1.22 -> 4991.8033 | F13: 6090 | G13: =$F13*V13 -> 3654 | H13: =$F13*W13 -> 6090 | U13: =F13/1.22 -> 4991.8033 | V13: 0.6 | W13: 1 | X13: =$F13*V13-G13 -> 0 | Y13: =$F13*W13-H13 -> 0
A14: Антракол | B14: ВДГ | C14: 1х10 кг м | D14: 1,75-2,25 | E14: =F14/1.22 -> 1713.1148 | F14: 2090 | G14: =$F14*V14 -> 3657.5 | H14: =$F14*W14 -> 4702.5 | U14: =F14/1.22 -> 1713.1148 | V14: 1.75 | W14: 2.25 | X14: =$F14*V14-G14 -> 0 | Y14: =$F14*W14-H14 -> 0
A15: Артист | B15: ВДГ | C15: 1х10 кг к | D15: 2,0-2,5 | E15: =F15/1.22 -> 5737.7049 | F15: 7000 | G15: =$F15*V15 -> 14000 | H15: =$F15*W15 -> 17500 | U15: =F15/1.22 -> 5737.7049 | V15: 2 | W15: 2.5 | X15: =$F15*V15-G15 -> 0 | Y15: =$F15*W15-H15 -> 0
A16: Афродита | B16: КС | C16: 4x5 л к | D16: 0,4-3,0 | E16: =F16/1.22 -> 4918.0328 | F16: 6000 | G16: =$F16*V16 -> 2400 | H16: =$F16*W16 -> 18000 | U16: =F16/1.22 -> 4918.0328 | V16: 0.4 | W16: 3 | X16: =$F16*V16-G16 -> 0 | Y16: =$F16*W16-H16 -> 0
A17: Бандур | B17: КС | C17: 4x5 л к | D17: 3,0-4,0 | E17: =F17/1.22 -> 2590.1639 | F17: 3160 | G17: =$F17*V17 -> 9480 | H17: =$F17*W17 -> 12640 | U17: =F17/1.22 -> 2590.1639 | V17: 3 | W17: 4 | X17: =$F17*V17-G17 -> 0 | Y17: =$F17*W17-H17 -> 0
A18: Баритон Супер | B18: КС | C18: 4x5 л к | D18: 0,8-1,0 | E18: =F18/1.22 -> 4532.7869 | F18: 5530 | G18: =$F18*V18 -> 4424 | H18: =$F18*W18 -> 5530 | U18: =F18/1.22 -> 4532.7869 | V18: 0.8 | W18: 1 | X18: =$F18*V18-G18 -> 0 | Y18: =$F18*W18-H18 -> 0
A19: Белт 1 Л | B19: КС | C19: 12х1 л ф | D19: 0,1-0,4 | E19: =F19/1.22 -> 21434.426 | F19: 26150 | G19: =$F19*V19 -> 2615 | H19: =$F19*W19 -> 10460 | U19: =F19/1.22 -> 21434.426 | V19: 0.1 | W19: 0.4 | X19: =$F19*V19-G19 -> 0 | Y19: =$F19*W19-H19 -> 0
A20: Белт 5 Л | B20: КС | C20: 4х5 л ф | D20: 0,1-0,4 | E20: =F20/1.22 -> 21434.426 | F20: 26150 | G20: =$F20*V20 -> 2615 | H20: =$F20*W20 -> 10460 | U20: =F20/1.22 -> 21434.426 | V20: 0.1 | W20: 0.4 | X20: =$F20*V20-G20 -> 0 | Y20: =$F20*W20-H20 -> 0
A21: Бетанал 22 | B21: КЭ | C21: 4х5 л к | D21: 1,0-3,0 | E21: =F21/1.22 -> 2360.6557 | F21: 2880 | G21: =$F21*V21 -> 2880 | H21: =$F21*W21 -> 8640 | U21: =F21/1.22 -> 2360.6557 | V21: 1 | W21: 3 | X21: =$F21*V21-G21 -> 0 | Y21: =$F21*W21-H21 -> 0
A22: Бетанал максПро | B22: МД | C22: 4x5 л к | D22: 1,25-1,5 | E22: =F22/1.22 -> 2295.082 | F22: 2800 | G22: =$F22*V22 -> 3500 | H22: =$F22*W22 -> 4200 | U22: =F22/1.22 -> 2295.082 | V22: 1.25 | W22: 1.5 | X22: =$F22*V22-G22 -> 0 | Y22: =$F22*W22-H22 -> 0
... A25: Биская | B25: МД | C25: 4x5 л к | D25: 0,2-0,3 | E25: =F25/1.22 -> 5098.3607 | F25: 6220 | G25: =$F25*V25 -> 1244 | H25: =$F25*W25 -> 1866 | U25: =F25/1.22 -> 5098.3607 | V25: 0.2 | W25: 0.3 | X25: =$F25*V25-G25 -> 0 | Y25: =$F25*W25-H25 -> 0
A26: Бисмарк | B26: МКС | C26: 4х5 л к | D26: 3 | E26: =F26/1.22 -> 2614.7541 | F26: 3190 | G26: =$F26*V26 -> 9570 | H26: =$F26*W26 -> 9570 | U26: =F26/1.22 -> 2614.7541 | V26: 3 | W26: 3 | X26: =$F26*V26-G26 -> 0 | Y26: =$F26*W26-H26 -> 0
A27: Велосити Пауэр | B27: ВДГ | C27: 4х2,25 кг к | D27: 0,22-0,33 | E27: =F27/1.22 -> 5860.6557 | F27: 7150 | G27: =$F27*V27 -> 1573 | H27: =$F27*W27 -> 2359.5 | U27: =F27/1.22 -> 5860.6557 | V27: 0.22 | W27: 0.33 | X27: =$F27*V27-G27 -> 0 | Y27: =$F27*W27-H27 -> 0
A28: Веранго | B28: КС | C28: 4x5 л к | D28: 0,8-1,2 | E28: =F28/1.22 -> 30327.869 | F28: 37000 | G28: =$F28*V28 -> 29600 | H28: =$F28*W28 -> 44400 | U28: =F28/1.22 -> 30327.869 | V28: 0.8 | W28: 1.2 | X28: =$F28*V28-G28 -> 0 | Y28: =$F28*W28-H28 -> 0
A29: Вердикт | B29: ВДГ | C29: 4х3 кг к | D29: 0,3-0,5 | E29: =F29/1.22 -> 5778.6885 | F29: 7050 | G29: =$F29*V29 -> 2115 | H29: =$F29*W29 -> 3525 | U29: =F29/1.22 -> 5778.6885 | V29: 0.3 | W29: 0.5 | X29: =$F29*V29-G29 -> 0 | Y29: =$F29*W29-H29 -> 0
A30: Витена | B30: ВДГ | C30: 4Х5 кг к | D30: 0.4 | E30: =F30/1.22 -> 6401.6393 | F30: 7810 | G30: =$F30*V30 -> 3124 | H30: =$F30*W30 -> 3124 | U30: =F30/1.22 -> 6401.6393 | V30: 0.4 | W30: 0.4 | X30: =$F30*V30-G30 -> 0 | Y30: =$F30*W30-H30 -> 0
A31: Гербикс | B31: ВК | C31: 2х10 л к | D31: 0,7-1,5 | E31: =F31/1.22 -> 918.03279 | F31: 1120 | G31: =$F31*V31 -> 784 | H31: =$F31*W31 -> 1680 | U31: =F31/1.22 -> 918.03279 | V31: 0.7 | W31: 1.5 | X31: =$F31*V31-G31 -> 0 | Y31: =$F31*W31-H31 -> 0
A32: Деларо | B32: КС | C32: 4x5 л к | D32: 0,5-1,0 | E32: =F32/1.22 -> 4000 | F32: 4880 | G32: =$F32*V32 -> 2440 | H32: =$F32*W32 -> 4880 | U32: =F32/1.22 -> 4000 | V32: 0.5 | W32: 1 | X32: =$F32*V32-G32 -> 0 | Y32: =$F32*W32-H32 -> 0
A33: Децис Эксперт 1 Л | B33: КЭ | C33: 12х1 л к | D33: 0,05-0,2 | E33: =F33/1.22 -> 3229.5082 | F33: 3940 | G33: =$F33*V33 -> 197 | H33: =$F33*W33 -> 788 | U33: =F33/1.22 -> 3229.5082 | V33: 0.05 | W33: 0.2 | X33: =$F33*V33-G33 -> 0 | Y33: =$F33*W33-H33 -> 0
A34: Децис Эксперт 5 Л | B34: КЭ | C34: 4x5 л к | D34: 0,05-0,2 | E34: =F34/1.22 -> 2950.8197 | F34: 3600 | G34: =$F34*V34 -> 180 | H34: =$F34*W34 -> 720 | U34: =F34/1.22 -> 2950.8197 | V34: 0.05 | W34: 0.2 | X34: =$F34*V34-G34 -> 0 | Y34: =$F34*W34-H34 -> 0
A35: Зантара | B35: КЭ | C35: 4x5 л к | D35: 0,8-1,0 | E35: =F35/1.22 -> 3565.5738 | F35: 4350 | G35: =$F35*V35 -> 3480 | H35: =$F35*W35 -> 4350 | U35: =F35/1.22 -> 3565.5738 | V35: 0.8 | W35: 1 | X35: =$F35*V35-G35 -> 0 | Y35: =$F35*W35-H35 -> 0
A36: Зато | B36: ВДГ | C36: 10х1 кг кор | D36: 0,14-0,15 | E36: =F36/1.22 -> 14426.23 | F36: 17600 | G36: =$F36*V36 -> 2464 | H36: =$F36*W36 -> 2640 | U36: =F36/1.22 -> 14426.23 | V36: 0.14 | W36: 0.15 | X36: =$F36*V36-G36 -> 0 | Y36: =$F36*W36-H36 -> 0
A37: Зенкор Ультра | B37: КС | C37: 4x5 л к | D37: 0,3-1,4 | E37: =F37/1.22 -> 4590.1639 | F37: 5600 | G37: =$F37*V37 -> 1680 | H37: =$F37*W37 -> 7840 | U37: =F37/1.22 -> 4590.1639 | V37: 0.3 | W37: 1.4 | X37: =$F37*V37-G37 -> 0 | Y37: =$F37*W37-H37 -> 0
A38: Инпут | B38: КЭ | C38: 4х5 л к | D38: 0,6 - 1,0 | E38: =F38/1.22 -> 3122.9508 | F38: 3810 | G38: =$F38*V38 -> 2286 | H38: =$F38*W38 -> 3810 | U38: =F38/1.22 -> 3122.9508 | V38: 0.6 | W38: 1 | X38: =$F38*V38-G38 -> 0 | Y38: =$F38*W38-H38 -> 0
A39: Инсектокарб | B39: КЭ | C39: 4Х5 л к | D39: 0,14-0,4 | E39: =F39/1.22 -> 10163.934 | F39: 12400 | G39: =$F39*V39 -> 1736 | H39: =$F39*W39 -> 4960 | U39: =F39/1.22 -> 10163.934 | V39: 0.14 | W39: 0.4 | X39: =$F39*V39-G39 -> 0 | Y39: =$F39*W39-H39 -> 0
A40: Инфинито | B40: КC | C40: 4х5 л к | D40: 1,2-1,6 | E40: =F40/1.22 -> 2614.7541 | F40: 3190 | G40: =$F40*V40 -> 3828 | H40: =$F40*W40 -> 5104 | U40: =F40/1.22 -> 2614.7541 | V40: 1.2 | W40: 1.6 | X40: =$F40*V40-G40 -> 0 | Y40: =$F40*W40-H40 -> 0
A41: Калипсо | B41: КС | C41: 12х1 л ф | D41: 0,1-0,45 | E41: =F41/1.22 -> 11557.377 | F41: 14100 | G41: =$F41*V41 -> 1410 | H41: =$F41*W41 -> 6345 | U41: =F41/1.22 -> 11557.377 | V41: 0.1 | W41: 0.45 | X41: =$F41*V41-G41 -> 0 | Y41: =$F41*W41-H41 -> 0
A42: Капрено** | B42: КС | C42: 4x5 л к | D42: 0,2-0,3 | E42: =F42/1.22 -> 10696.721 | F42: 13050 | G42: =$F42*V42 -> 2610 | H42: =$F42*W42 -> 3915 | U42: =F42/1.22 -> 10696.721 | V42: 0.2 | W42: 0.3 | X42: =$F42*V42-G42 -> 0 | Y42: =$F42*W42-H42 -> 0
... A76: Эместо Сильвер | B76: КС | C76: 4х5 л к | D76: 0,2-0,4 | E76: =F76/1.22 -> 8631.1475 | F76: 10530 | G76: =$F76*V76 -> 2106 | H76: =$F76*W76 -> 4212 | U76: =F76/1.22 -> 8631.1475 | V76: 0.2 | W76: 0.4 | X76: =$F76*V76-G76 -> 0 | Y76: =$F76*W76-H76 -> 0
A78: *Продаётся только в комплекте с препаратами Вердикт ВДГ (одна коробка Вердикт ВДГ + одна коробка БиоПауэр ВРК), Велосити Пауэр ВДГ (одна коробка Велосити Пауэр ВДГ + одна коробка БиоПауэр ВРК).
A81: Особые условия для продажи гербицидов:
A82: Для гербицидов Капрено КС и Лаудис ВДГ продажа осуществляется только в комплекте с адъювантом Меро.
A83: **Капрено КС: Комплект включает 1 л гербицида Капрено КС и 6 л адъюванта Меро.
...

Sheet Sheet1
A1: Аденго | B1: =VLOOKUP(A1,'СЗР_PL_01.10.2026'!A:H,1,FALSE) -> Аденго | D1: Аденго | E1: =A1=D1 -> TRUE
A2: Акцент | B2: =VLOOKUP(A2,'СЗР_PL_01.10.2026'!A:H,1,FALSE) -> Акцент | D2: Акцент | E2: =A2=D2 -> TRUE
A3: Алистер Гранд | B3: =VLOOKUP(A3,'СЗР_PL_01.10.2026'!A:H,1,FALSE) -> Алистер Гранд | D3: Алистер Гранд | E3: =A3=D3 -> TRUE
A4: Антракол | B4: =VLOOKUP(A4,'СЗР_PL_01.10.2026'!A:H,1,FALSE) -> Антракол | D4: Антракол | E4: =A4=D4 -> TRUE
A5: Артист | B5: =VLOOKUP(A5,'СЗР_PL_01.10.2026'!A:H,1,FALSE) -> Артист | D5: Артист | E5: =A5=D5 -> TRUE
A6: Бандур | B6: =VLOOKUP(A6,'СЗР_PL_01.10.2026'!A:H,1,FALSE) -> Бандур | D6: Бандур | E6: =A6=D6 -> TRUE
A7: Баритон Супер | B7: =VLOOKUP(A7,'СЗР_PL_01.10.2026'!A:H,1,FALSE) -> Баритон Супер | D7: Баритон Супер | E7: =A7=D7 -> TRUE
A8: Белт 1 Л | B8: =VLOOKUP(A8,'СЗР_PL_01.10.2026'!A:H,1,FALSE) -> Белт 1 Л | D8: Белт 1 Л | E8: =A8=D8 -> TRUE
A9: Белт 5 Л | B9: =VLOOKUP(A9,'СЗР_PL_01.10.2026'!A:H,1,FALSE) -> Белт 5 Л | D9: Белт 5 Л | E9: =A9=D9 -> TRUE
A10: Бетанал 22 | B10: =VLOOKUP(A10,'СЗР_PL_01.10.2026'!A:H,1,FALSE) -> Бетанал 22 | D10: Бетанал 22 | E10: =A10=D10 -> TRUE
A11: Бетанал максПро | B11: =VLOOKUP(A11,'СЗР_PL_01.10.2026'!A:H,1,FALSE) -> Бетанал максПро | D11: Бетанал максПро | E11: =A11=D11 -> TRUE
A12: Бетанал Эксперт ОФ | B12: =VLOOKUP(A12,'СЗР_PL_01.10.2026'!A:H,1,FALSE) -> Бетанал Эксперт ОФ | D12: Бетанал Эксперт ОФ | E12: =A12=D12 -> TRUE
... A61: Эместо Сильвер | B61: =VLOOKUP(A61,'СЗР_PL_01.10.2026'!A:H,1,FALSE) -> Эместо Сильвер | D61: Эместо Сильвер | E61: =A61=D61 -> TRUE
E62: =A62=D62 -> TRUE
